BEGIN:VCALENDAR
VERSION:2.0
PRODID:-//Harley Sports - ECPv6.7.0//NONSGML v1.0//EN
CALSCALE:GREGORIAN
METHOD:PUBLISH
X-WR-CALNAME:Harley Sports
X-ORIGINAL-URL:https://harleysports.com
X-WR-CALDESC:Events for Harley Sports
REFRESH-INTERVAL;VALUE=DURATION:PT1H
X-Robots-Tag:noindex
X-PUBLISHED-TTL:PT1H
BEGIN:VTIMEZONE
TZID:UTC
BEGIN:STANDARD
TZOFFSETFROM:+0000
TZOFFSETTO:+0000
TZNAME:UTC
DTSTART:20260101T000000
END:STANDARD
END:VTIMEZONE
BEGIN:VEVENT
DTSTART;TZID=UTC:20260411T080000
DTEND;TZID=UTC:20260411T100000
DTSTAMP:20260422T082354
CREATED:20260223T214153Z
LAST-MODIFIED:20260223T214153Z
UID:3296-1775894400-1775901600@harleysports.com
SUMMARY:Navy Federal 5k and Sammie Sprint
DESCRIPTION:Course will open to traffic one hour after the start of the race.\nTiming for this event is provided by Good Times Event Services.\nThe race beneficiary is Vet’s Wish
URL:https://harleysports.com/event/navy-federal-5k-and-sammie-sprint/
LOCATION:Seville Quarter\, 130 E Government St\, Pensacola\, FL\, 32502\, United States
END:VEVENT
END:VCALENDAR