BEGIN:VCALENDAR
VERSION:2.0
PRODID:-//Harley Sports - ECPv6.7.0//NONSGML v1.0//EN
CALSCALE:GREGORIAN
METHOD:PUBLISH
X-WR-CALNAME:Harley Sports
X-ORIGINAL-URL:https://harleysports.com
X-WR-CALDESC:Events for Harley Sports
REFRESH-INTERVAL;VALUE=DURATION:PT1H
X-Robots-Tag:noindex
X-PUBLISHED-TTL:PT1H
BEGIN:VTIMEZONE
TZID:UTC
BEGIN:STANDARD
TZOFFSETFROM:+0000
TZOFFSETTO:+0000
TZNAME:UTC
DTSTART:20260101T000000
END:STANDARD
END:VTIMEZONE
BEGIN:VEVENT
DTSTART;TZID=UTC:20260418T080000
DTEND;TZID=UTC:20260418T120000
DTSTAMP:20260420T093332
CREATED:20260221T014635Z
LAST-MODIFIED:20260221T014635Z
UID:3232-1776499200-1776513600@harleysports.com
SUMMARY:Saraland 8k and Fun Run
DESCRIPTION:Certified 8K (AL25029JE) course through Saraland residential neighborhoods surrounding Amelia Park.  The course is mostly flat with some gentle inclines.  Water provided along the course.  Fun Run is approximately 1 Mile. \nFood\, beverages\, and awards presentation after the race at the pavilion at Amelia Park. \nBenefiting: Domestic Violence Task Force
URL:https://harleysports.com/event/saraland-8k-and-fun-run/
LOCATION:Amelia Oark Pavilion\, 716 Mae Street\,\, Saraland\, AL\, United States
END:VEVENT
END:VCALENDAR